BEGIN:VCALENDAR
VERSION:2.0
PRODID:-//Kiama Woodcraft Group, Inc - ECPv6.15.17//NONSGML v1.0//EN
CALSCALE:GREGORIAN
METHOD:PUBLISH
X-ORIGINAL-URL:https://www.kiamawoodcraft.org
X-WR-CALDESC:Events for Kiama Woodcraft Group, Inc
REFRESH-INTERVAL;VALUE=DURATION:PT1H
X-Robots-Tag:noindex
X-PUBLISHED-TTL:PT1H
BEGIN:VTIMEZONE
TZID:Australia/Sydney
BEGIN:STANDARD
TZOFFSETFROM:+1100
TZOFFSETTO:+1000
TZNAME:AEST
DTSTART:20240406T160000
END:STANDARD
BEGIN:DAYLIGHT
TZOFFSETFROM:+1000
TZOFFSETTO:+1100
TZNAME:AEDT
DTSTART:20241005T160000
END:DAYLIGHT
BEGIN:STANDARD
TZOFFSETFROM:+1100
TZOFFSETTO:+1000
TZNAME:AEST
DTSTART:20250405T160000
END:STANDARD
BEGIN:DAYLIGHT
TZOFFSETFROM:+1000
TZOFFSETTO:+1100
TZNAME:AEDT
DTSTART:20251004T160000
END:DAYLIGHT
BEGIN:STANDARD
TZOFFSETFROM:+1100
TZOFFSETTO:+1000
TZNAME:AEST
DTSTART:20260404T160000
END:STANDARD
BEGIN:DAYLIGHT
TZOFFSETFROM:+1000
TZOFFSETTO:+1100
TZNAME:AEDT
DTSTART:20261003T160000
END:DAYLIGHT
BEGIN:STANDARD
TZOFFSETFROM:+1100
TZOFFSETTO:+1000
TZNAME:AEST
DTSTART:20270403T160000
END:STANDARD
BEGIN:DAYLIGHT
TZOFFSETFROM:+1000
TZOFFSETTO:+1100
TZNAME:AEDT
DTSTART:20271002T160000
END:DAYLIGHT
END:VTIMEZONE
BEGIN:VEVENT
DTSTART;TZID=Australia/Sydney:20260317T190000
DTEND;TZID=Australia/Sydney:20260317T213000
DTSTAMP:20260422T153324
CREATED:20260119T122129Z
LAST-MODIFIED:20260119T122129Z
UID:1097-1773774000-1773783000@www.kiamawoodcraft.org
SUMMARY:KWG Meeting Mar 2026
DESCRIPTION:A regular Kiama Woodcraft Group meeting will be held on Tuesday 17th March 2026 at the Joyce Wheatley Community Centre\, Kiama. \nMeetings commence at 7:00 pm and typically finish around 9:30 pm. \nGenerally\, a guest speaker is invited to each meeting to demonstrate woodworking skills or to discuss an interesting topic or a member of the group will demonstrate a particular skill. \nMeetings also include upcoming events\, general discussions\, and show and tell – a time to show off your latest work or seek help with that disaster we are all too familiar with. \nAll visitors are welcome to come along to meetings to see what we do and potentially join the group. \nThe venue is next to the Kiama Masonic Hall\, at the bottom end of the terrace houses in Kiama. Limited parking is available at rear. Entrance is from the rear. \nThis is a wheelchair-friendly venue.
URL:https://www.kiamawoodcraft.org/event/kwg-meeting-mar-2026/
LOCATION:Joyce Wheatley Community Centre\, 107 Terralong Street\, Kiama\, NSW\, 2533\, Australia
CATEGORIES:Meeting
ATTACH;FMTTYPE=image/jpeg:https://www.kiamawoodcraft.org/wp-content/uploads/2024/08/joyce-wheatley-community-centre-e1724887304858.jpg
END:VEVENT
BEGIN:VEVENT
DTSTART;TZID=Australia/Sydney:20260217T190000
DTEND;TZID=Australia/Sydney:20260217T213000
DTSTAMP:20260422T153324
CREATED:20260119T121727Z
LAST-MODIFIED:20260119T121727Z
UID:1095-1771354800-1771363800@www.kiamawoodcraft.org
SUMMARY:KWG Meeting Feb 2026
DESCRIPTION:A regular Kiama Woodcraft Group meeting will be held on Tuesday 17th February 2026 at the Joyce Wheatley Community Centre\, Kiama. \nMeetings commence at 7:00 pm and typically finish around 9:30 pm. \nGenerally\, a guest speaker is invited to each meeting to demonstrate woodworking skills or to discuss an interesting topic or a member of the group will demonstrate a particular skill. \nMeetings also include upcoming events\, general discussions\, and show and tell – a time to show off your latest work or seek help with that disaster we are all too familiar with. \nAll visitors are welcome to come along to meetings to see what we do and potentially join the group. \nThe venue is next to the Kiama Masonic Hall\, at the bottom end of the terrace houses in Kiama. Limited parking is available at rear. Entrance is from the rear. \nThis is a wheelchair-friendly venue.
URL:https://www.kiamawoodcraft.org/event/kwg-meeting-feb-2026/
LOCATION:Joyce Wheatley Community Centre\, 107 Terralong Street\, Kiama\, NSW\, 2533\, Australia
CATEGORIES:Meeting
ATTACH;FMTTYPE=image/jpeg:https://www.kiamawoodcraft.org/wp-content/uploads/2024/08/joyce-wheatley-community-centre-e1724887304858.jpg
END:VEVENT
BEGIN:VEVENT
DTSTART;TZID=Australia/Sydney:20260120T190000
DTEND;TZID=Australia/Sydney:20260120T213000
DTSTAMP:20260422T153324
CREATED:20260119T121248Z
LAST-MODIFIED:20260119T121401Z
UID:1093-1768935600-1768944600@www.kiamawoodcraft.org
SUMMARY:KWG Meeting Jan 2026
DESCRIPTION:A regular Kiama Woodcraft Group meeting will be held on Tuesday 20th January 2026 at the Joyce Wheatley Community Centre\, Kiama. \nMeetings commence at 7:00 pm and typically finish around 9:30 pm. \nGenerally\, a guest speaker is invited to each meeting to demonstrate woodworking skills or to discuss an interesting topic or a member of the group will demonstrate a particular skill. \nMeetings also include upcoming events\, general discussions\, and show and tell – a time to show off your latest work or seek help with that disaster we are all too familiar with. \nAll visitors are welcome to come along to meetings to see what we do and potentially join the group. \nThe venue is next to the Kiama Masonic Hall\, at the bottom end of the terrace houses in Kiama. Limited parking is available at rear. Entrance is from the rear. \nThis is a wheelchair-friendly venue.
URL:https://www.kiamawoodcraft.org/event/kwg-meeting-jan-2026/
LOCATION:Joyce Wheatley Community Centre\, 107 Terralong Street\, Kiama\, NSW\, 2533\, Australia
CATEGORIES:Meeting
ATTACH;FMTTYPE=image/jpeg:https://www.kiamawoodcraft.org/wp-content/uploads/2024/08/joyce-wheatley-community-centre-e1724887304858.jpg
END:VEVENT
BEGIN:VEVENT
DTSTART;TZID=Australia/Sydney:20251118T190000
DTEND;TZID=Australia/Sydney:20251118T213000
DTSTAMP:20260422T153324
CREATED:20250523T041817Z
LAST-MODIFIED:20250523T041817Z
UID:860-1763492400-1763501400@www.kiamawoodcraft.org
SUMMARY:KWG Meeting Nov 2025
DESCRIPTION:A regular Kiama Woodcraft Group meeting will be held on Tuesday 18th November 2025 at the Joyce Wheatley Community Centre\, Kiama. \nMeetings commence at 7:00 pm and typically finish around 9:30 pm. \nGenerally\, a guest speaker is invited to each meeting to demonstrate woodworking skills or to discuss an interesting topic or a member of the group will demonstrate a particular skill. \nMeetings also include upcoming events\, general discussions\, and show and tell – a time to show off your latest work or seek help with that disaster we are all too familiar with. \nAll visitors are welcome to come along to meetings to see what we do and potentially join the group. \nThe venue is next to the Kiama Masonic Hall\, at the bottom end of the terrace houses in Kiama. Limited parking is available at rear. Entrance is from the rear. \nThis is a wheelchair-friendly venue.
URL:https://www.kiamawoodcraft.org/event/kwg-meeting-nov-2025/
LOCATION:Joyce Wheatley Community Centre\, 107 Terralong Street\, Kiama\, NSW\, 2533\, Australia
CATEGORIES:Meeting
ATTACH;FMTTYPE=image/jpeg:https://www.kiamawoodcraft.org/wp-content/uploads/2024/08/joyce-wheatley-community-centre-e1724887304858.jpg
END:VEVENT
BEGIN:VEVENT
DTSTART;TZID=Australia/Sydney:20251021T190000
DTEND;TZID=Australia/Sydney:20251021T213000
DTSTAMP:20260422T153324
CREATED:20250523T041538Z
LAST-MODIFIED:20250523T041538Z
UID:858-1761073200-1761082200@www.kiamawoodcraft.org
SUMMARY:KWG Meeting Oct 2025
DESCRIPTION:A regular Kiama Woodcraft Group meeting will be held on Tuesday 21st October 2025 at the Joyce Wheatley Community Centre\, Kiama. \nMeetings commence at 7:00 pm and typically finish around 9:30 pm. \nGenerally\, a guest speaker is invited to each meeting to demonstrate woodworking skills or to discuss an interesting topic or a member of the group will demonstrate a particular skill. \nMeetings also include upcoming events\, general discussions\, and show and tell – a time to show off your latest work or seek help with that disaster we are all too familiar with. \nAll visitors are welcome to come along to meetings to see what we do and potentially join the group. \nThe venue is next to the Kiama Masonic Hall\, at the bottom end of the terrace houses in Kiama. Limited parking is available at rear. Entrance is from the rear. \nThis is a wheelchair-friendly venue.
URL:https://www.kiamawoodcraft.org/event/kwg-meeting-oct-2025/
LOCATION:Joyce Wheatley Community Centre\, 107 Terralong Street\, Kiama\, NSW\, 2533\, Australia
CATEGORIES:Meeting
ATTACH;FMTTYPE=image/jpeg:https://www.kiamawoodcraft.org/wp-content/uploads/2024/08/joyce-wheatley-community-centre-e1724887304858.jpg
END:VEVENT
BEGIN:VEVENT
DTSTART;TZID=Australia/Sydney:20250916T190000
DTEND;TZID=Australia/Sydney:20250916T213000
DTSTAMP:20260422T153324
CREATED:20250523T035647Z
LAST-MODIFIED:20250523T035647Z
UID:854-1758049200-1758058200@www.kiamawoodcraft.org
SUMMARY:KWG Meeting Sep 2025
DESCRIPTION:A regular Kiama Woodcraft Group meeting will be held on Tuesday 16th September 2025 at the Joyce Wheatley Community Centre\, Kiama. \nMeetings commence at 7:00 pm and typically finish around 9:30 pm. \nGenerally\, a guest speaker is invited to each meeting to demonstrate woodworking skills or to discuss an interesting topic or a member of the group will demonstrate a particular skill. \nMeetings also include upcoming events\, general discussions\, and show and tell – a time to show off your latest work or seek help with that disaster we are all too familiar with. \nAll visitors are welcome to come along to meetings to see what we do and potentially join the group. \nThe venue is next to the Kiama Masonic Hall\, at the bottom end of the terrace houses in Kiama. Limited parking is available at rear. Entrance is from the rear. \nThis is a wheelchair-friendly venue.
URL:https://www.kiamawoodcraft.org/event/kwg-meeting-sep-2025/
LOCATION:Joyce Wheatley Community Centre\, 107 Terralong Street\, Kiama\, NSW\, 2533\, Australia
CATEGORIES:Meeting
ATTACH;FMTTYPE=image/jpeg:https://www.kiamawoodcraft.org/wp-content/uploads/2024/08/joyce-wheatley-community-centre-e1724887304858.jpg
END:VEVENT
BEGIN:VEVENT
DTSTART;TZID=Australia/Sydney:20250819T190000
DTEND;TZID=Australia/Sydney:20250819T213000
DTSTAMP:20260422T153324
CREATED:20250523T035444Z
LAST-MODIFIED:20250523T035444Z
UID:852-1755630000-1755639000@www.kiamawoodcraft.org
SUMMARY:KWG Meeting Aug 2025
DESCRIPTION:A regular Kiama Woodcraft Group meeting will be held on Tuesday 19th August 2025 at the Joyce Wheatley Community Centre\, Kiama. \nMeetings commence at 7:00 pm and typically finish around 9:30 pm. \nGenerally\, a guest speaker is invited to each meeting to demonstrate woodworking skills or to discuss an interesting topic or a member of the group will demonstrate a particular skill. \nMeetings also include upcoming events\, general discussions\, and show and tell – a time to show off your latest work or seek help with that disaster we are all too familiar with. \nAll visitors are welcome to come along to meetings to see what we do and potentially join the group. \nThe venue is next to the Kiama Masonic Hall\, at the bottom end of the terrace houses in Kiama. Limited parking is available at rear. Entrance is from the rear. \nThis is a wheelchair-friendly venue.
URL:https://www.kiamawoodcraft.org/event/kwg-meeting-aug-2025/
LOCATION:Joyce Wheatley Community Centre\, 107 Terralong Street\, Kiama\, NSW\, 2533\, Australia
CATEGORIES:Meeting
ATTACH;FMTTYPE=image/jpeg:https://www.kiamawoodcraft.org/wp-content/uploads/2024/08/joyce-wheatley-community-centre-e1724887304858.jpg
END:VEVENT
BEGIN:VEVENT
DTSTART;TZID=Australia/Sydney:20250715T190000
DTEND;TZID=Australia/Sydney:20250715T213000
DTSTAMP:20260422T153324
CREATED:20241204T112826Z
LAST-MODIFIED:20250523T042029Z
UID:706-1752606000-1752615000@www.kiamawoodcraft.org
SUMMARY:KWG Meeting Jul 2025
DESCRIPTION:A regular Kiama Woodcraft Group meeting will be held on Tuesday 15th July 2025 at the Joyce Wheatley Community Centre\, Kiama. \nThe Annual General Meeting (AGM) will also be held during this time\, to elect club officers for the year ahead. \nMeetings commence at 7:00 pm and typically finish around 9:30 pm. \nGenerally\, a guest speaker is invited to each meeting to demonstrate woodworking skills or to discuss an interesting topic or a member of the group will demonstrate a particular skill. \nMeetings also include upcoming events\, general discussions\, and show and tell – a time to show off your latest work or seek help with that disaster we are all too familiar with. \nAll visitors are welcome to come along to meetings to see what we do and potentially join the group. \nThe venue is next to the Kiama Masonic Hall\, at the bottom end of the terrace houses in Kiama. Limited parking is available at rear. Entrance is from the rear. \nThis is a wheelchair-friendly venue.
URL:https://www.kiamawoodcraft.org/event/kwg-meeting-jul-2025/
LOCATION:Joyce Wheatley Community Centre\, 107 Terralong Street\, Kiama\, NSW\, 2533\, Australia
CATEGORIES:Meeting
ATTACH;FMTTYPE=image/jpeg:https://www.kiamawoodcraft.org/wp-content/uploads/2024/08/joyce-wheatley-community-centre-e1724887304858.jpg
END:VEVENT
BEGIN:VEVENT
DTSTART;TZID=Australia/Sydney:20250617T190000
DTEND;TZID=Australia/Sydney:20250617T213000
DTSTAMP:20260422T153324
CREATED:20241204T112609Z
LAST-MODIFIED:20250512T232811Z
UID:703-1750186800-1750195800@www.kiamawoodcraft.org
SUMMARY:KWG Meeting Jun 2025
DESCRIPTION:A regular Kiama Woodcraft Group meeting will be held on Tuesday 17th June 2025 at the Joyce Wheatley Community Centre\, Kiama. \nMeetings commence at 7:00 pm and typically finish around 9:30 pm. \nGenerally\, a guest speaker is invited to each meeting to demonstrate woodworking skills or to discuss an interesting topic or a member of the group will demonstrate a particular skill. \nMeetings also include upcoming events\, general discussions\, and show and tell – a time to show off your latest work or seek help with that disaster we are all too familiar with. \nAll visitors are welcome to come along to meetings to see what we do and potentially join the group. \nThe venue is next to the Kiama Masonic Hall\, at the bottom end of the terrace houses in Kiama. Limited parking is available at rear. Entrance is from the rear. \nThis is a wheelchair-friendly venue.
URL:https://www.kiamawoodcraft.org/event/kwg-meeting-jun-2025/
LOCATION:Joyce Wheatley Community Centre\, 107 Terralong Street\, Kiama\, NSW\, 2533\, Australia
CATEGORIES:Meeting
ATTACH;FMTTYPE=image/jpeg:https://www.kiamawoodcraft.org/wp-content/uploads/2024/08/joyce-wheatley-community-centre-e1724887304858.jpg
END:VEVENT
BEGIN:VEVENT
DTSTART;TZID=Australia/Sydney:20250520T190000
DTEND;TZID=Australia/Sydney:20250520T213000
DTSTAMP:20260422T153324
CREATED:20241204T112340Z
LAST-MODIFIED:20250512T232645Z
UID:701-1747767600-1747776600@www.kiamawoodcraft.org
SUMMARY:KWG Meeting May 2025
DESCRIPTION:A regular Kiama Woodcraft Group meeting will be held on Tuesday 20th May 2025 at the Joyce Wheatley Community Centre\, Kiama. \nMeetings commence at 7:00 pm and typically finish around 9:30 pm. \nGenerally\, a guest speaker is invited to each meeting to demonstrate woodworking skills or to discuss an interesting topic or a member of the group will demonstrate a particular skill. \nMeetings also include upcoming events\, general discussions\, and show and tell – a time to show off your latest work or seek help with that disaster we are all too familiar with. \nAll visitors are welcome to come along to meetings to see what we do and potentially join the group. \nThe venue is next to the Kiama Masonic Hall\, at the bottom end of the terrace houses in Kiama. Limited parking is available at rear. Entrance is from the rear. \nThis is a wheelchair-friendly venue.
URL:https://www.kiamawoodcraft.org/event/kwg-meeting-may-2025/
LOCATION:Joyce Wheatley Community Centre\, 107 Terralong Street\, Kiama\, NSW\, 2533\, Australia
CATEGORIES:Meeting
ATTACH;FMTTYPE=image/jpeg:https://www.kiamawoodcraft.org/wp-content/uploads/2024/08/joyce-wheatley-community-centre-e1724887304858.jpg
END:VEVENT
END:VCALENDAR